BEGIN:VCALENDAR
VERSION:2.0
METHOD:PUBLISH
PRODID:SimpleCalendar
BEGIN:VEVENT
UID:@simplecalendar-OF Weende
CATEGORIES:Altpapiersammlung
CLASS:PUBLIC
DTSTAMP:20260421T135350Z
CREATED:20260421T135350Z
SUMMARY:Altpapiersammlung
DESCRIPTION:Altpapiersammlung Ortsteil Weende /
LOCATION:Ortsteil Weende
TRANSP:OPAQUE
DTSTART:20260516T060000Z
DTEND:20260516T103000Z
END:VEVENT
END:VCALENDAR