BEGIN:VCALENDAR
VERSION:2.0
METHOD:PUBLISH
PRODID:SimpleCalendar
BEGIN:VEVENT
UID:@simplecalendar-OF Weende
CATEGORIES:Dienstplan Jugend
CLASS:PUBLIC
DTSTAMP:20260425T153218Z
CREATED:20260425T153218Z
SUMMARY:Jugendfeuerwehr
DESCRIPTION:Jugendfeuerwehr Feuerwehrhaus Weende /  A. Müller
LOCATION:Feuerwehrhaus Weende
TRANSP:OPAQUE
DTSTART:20230412T160000Z
DTEND:20230412T180000Z
END:VEVENT
END:VCALENDAR